BEGIN:VCALENDAR
VERSION:2.0
PRODID:-//ADLA DEACON RETREATS - ECPv6.1.2.2//NONSGML v1.0//EN
CALSCALE:GREGORIAN
METHOD:PUBLISH
X-ORIGINAL-URL:https://adladeaconretreats.com
X-WR-CALDESC:Events for ADLA DEACON RETREATS
REFRESH-INTERVAL;VALUE=DURATION:PT1H
X-Robots-Tag:noindex
X-PUBLISHED-TTL:PT1H
BEGIN:VTIMEZONE
TZID:America/Los_Angeles
BEGIN:DAYLIGHT
TZOFFSETFROM:-0800
TZOFFSETTO:-0700
TZNAME:PDT
DTSTART:20250309T100000
END:DAYLIGHT
BEGIN:STANDARD
TZOFFSETFROM:-0700
TZOFFSETTO:-0800
TZNAME:PST
DTSTART:20251102T090000
END:STANDARD
END:VTIMEZONE
BEGIN:VEVENT
DTSTART;TZID=America/Los_Angeles:20250815T160000
DTEND;TZID=America/Los_Angeles:20250817T120000
DTSTAMP:20260423T110134
CREATED:20241024T073432Z
LAST-MODIFIED:20250814T181253Z
UID:10000027-1755273600-1755432000@adladeaconretreats.com
SUMMARY:Mary & Joseph_08-15-17\, 2025_English
DESCRIPTION:Fr. Peter Saucedo
URL:https://adladeaconretreats.com/event/mary-joseph_08-15-17-2025_english
LOCATION:Mary & Joseph Retreat Center\, 5300 Crest Rd\, Rancho Palos Verdes\, CA\, 90275\, United States
ORGANIZER;CN="Office%20of%20Deacons%20in%20Ministry":MAILTO:egbenalcazar@la-archdiocese.org
END:VEVENT
END:VCALENDAR