BEGIN:VCALENDAR
VERSION:2.0
PRODID:-//ADLA DEACON RETREATS - ECPv6.1.2.2//NONSGML v1.0//EN
CALSCALE:GREGORIAN
METHOD:PUBLISH
X-ORIGINAL-URL:https://adladeaconretreats.com
X-WR-CALDESC:Events for ADLA DEACON RETREATS
REFRESH-INTERVAL;VALUE=DURATION:PT1H
X-Robots-Tag:noindex
X-PUBLISHED-TTL:PT1H
BEGIN:VTIMEZONE
TZID:America/Los_Angeles
BEGIN:DAYLIGHT
TZOFFSETFROM:-0800
TZOFFSETTO:-0700
TZNAME:PDT
DTSTART:20260308T100000
END:DAYLIGHT
BEGIN:STANDARD
TZOFFSETFROM:-0700
TZOFFSETTO:-0800
TZNAME:PST
DTSTART:20261101T090000
END:STANDARD
END:VTIMEZONE
BEGIN:VEVENT
DTSTART;TZID=America/Los_Angeles:20261023T170000
DTEND;TZID=America/Los_Angeles:20261025T000000
DTSTAMP:20260423T151637
CREATED:20251112T210957Z
LAST-MODIFIED:20260422T171248Z
UID:10000045-1792774800-1792886400@adladeaconretreats.com
SUMMARY:Holiday Inn – 10-23/25\, 2026 – Spanish - RETREAT FULL
DESCRIPTION:Fr. Alberto Chavez\, SDB
URL:https://adladeaconretreats.com/event/holiday-inn-10-23-25-2026-spanish
LOCATION:Holiday Inn Oxnard\, 600 E Esplanade Dr\, Oxnard\, CA\, 93036\, United States
ORGANIZER;CN="Office%20of%20Deacons%20in%20Ministry":MAILTO:egbenalcazar@la-archdiocese.org
END:VEVENT
END:VCALENDAR